BEGIN:VCALENDAR
VERSION:2.0
PRODID:-//Squarespace Inc/Squarespace 6//v6//EN
BEGIN:VEVENT
UID:59a89fa5e4fcb5f1b0dffd58@squarespace.com
DTSTAMP:20171006T143039Z
DTSTART:20171014T133000Z
DTEND:20171015T213000Z
SUMMARY:Tralee's Big Yoga Weekend with Golden Pear Yoga Events
END:VEVENT
END:VCALENDAR
