BEGIN:VCALENDAR
VERSION:2.0
PRODID:-//Squarespace Inc/Squarespace 6//v6//EN
BEGIN:VEVENT
UID:592ef88d86e6c03bbeca194e@squarespace.com
DTSTAMP:20170531T193628Z
DTSTART:20170708T174500Z
DTEND:20170708T191500Z
SUMMARY:Yoga. Beach. House.
GEO:52.390123;-9.829464
LOCATION:Ballyheigue Beach\, Ballyheigue\, Co. Kerry\, Co. Kerry\, Ireland
END:VEVENT
END:VCALENDAR
