BEGIN:VCALENDAR
VERSION:2.0
PRODID:-//Squarespace Inc/Squarespace 6//v6//EN
BEGIN:VEVENT
UID:598b45988419c293e1977489@squarespace.com
DTSTAMP:20170809T172816Z
DTSTART:20170819T203000Z
DTEND:20170819T213000Z
SUMMARY:Yoga.Town.House
END:VEVENT
END:VCALENDAR
