BEGIN:VCALENDAR
VERSION:2.0
PRODID:-//Squarespace Inc/Squarespace 6//v6//EN
BEGIN:VEVENT
UID:598b44bd4c0dbff7e3849935@squarespace.com
DTSTAMP:20170809T172531Z
DTSTART:20170820T200000Z
DTEND:20170820T213000Z
SUMMARY:Yin Yoga & Mindfulness Workshop
END:VEVENT
END:VCALENDAR
