BEGIN:VCALENDAR
VERSION:2.0
PRODID:-//Squarespace Inc/Squarespace 6//v6//EN
BEGIN:VEVENT
UID:59aee130cd39c32e75b52e7f@squarespace.com
DTSTAMP:20170905T174547Z
DTSTART:20170905T180000Z
DTEND:20170905T190000Z
SUMMARY:Bend\, Breath\, Brunch (24th September 2017)
END:VEVENT
END:VCALENDAR
